BEGIN:VCALENDAR
VERSION:2.0
PRODID:-//wp-events-plugin.com//7.2.2.1//EN
BEGIN:VEVENT
UID:82@cluboratoriamalaga.com
DTSTART;TZID=Europe/Madrid:20260605T193000
DTEND;TZID=Europe/Madrid:20260605T213000
DTSTAMP:20260412T175244Z
URL:https://www.cluboratoriamalaga.com/eventos/v-consurso-de-discursos-e-i
 mprovisados/
SUMMARY:V Consurso de Discursos e Improvisados
DESCRIPTION:🏆 V Concurso de Discursos e Improvisados\nUna noche para esc
 uchar\, sentir… y decidir quién gana\nEs el momento donde todo lo traba
 jado durante el año… se pone en juego.\nEl 5 de junio\, el Club Oratori
 a Málaga celebra su V Concurso de Discursos e Improvisación en un format
 o especial\, abierto al público.\nY tú puedes estar ahí.\n\n\n\n\n🔥 
 ¿Qué vas a vivir?\n\n 	Discursos preparados que han sido trabajados\, pu
 lidos y ensayados\n 	Presentaciones y pitch con intención\, emoción y me
 nsaje\n 	Improvisación en directo (sin red\, sin guion)\n 	Un ambiente ú
 nico con más de 200 personas compartiendo la experiencia\n\nEsto no va so
 lo de hablar.\nVa de conectar.\n\n\n 	Tipo: Evento especial\n 	Lugar: La C
 aja Blanca\n 	Descripción:\nEvento final del curso donde se pondrá en pr
 áctica todo lo aprendido en discursos preparados e improvisados.\n 	Entra
 das:\n\n 	Entrada socio\n 	Entrada no socio\n\n\n
ATTACH;FMTTYPE=image/jpeg:https://www.cluboratoriamalaga.com/wp-content/up
 loads/2026/04/AVANZA-A-TU-RITMO-3.jpg
CATEGORIES:Evento Especial
LOCATION:La Caja Blanca\, Av. del Editor Ángel Caffarena\, 8\, Teatinos-Un
 iversidad\, Málaga\, Málaga\, 29010\, España
X-APPLE-STRUCTURED-LOCATION;VALUE=URI;X-ADDRESS=Av. del Editor Ángel Caffa
 rena\, 8\, Teatinos-Universidad\, Málaga\, Málaga\, 29010\, España;X-AP
 PLE-RADIUS=100;X-TITLE=La Caja Blanca:geo:0,0
END:VEVENT
BEGIN:VTIMEZONE
TZID:Europe/Madrid
X-LIC-LOCATION:Europe/Madrid
BEGIN:DAYLIGHT
DTSTART:20260329T030000
TZOFFSETFROM:+0100
TZOFFSETTO:+0200
TZNAME:CEST
END:DAYLIGHT
END:VTIMEZONE
END:VCALENDAR