BEGIN:VCALENDAR
VERSION:2.0
PRODID:-//wp-events-plugin.com//7.2.2.1//EN
BEGIN:VEVENT
UID:87@cluboratoriamalaga.com
DTSTART;TZID=Europe/Madrid:20260426T103000
DTEND;TZID=Europe/Madrid:20260426T140000
DTSTAMP:20260419T190314Z
URL:https://www.cluboratoriamalaga.com/eventos/4909/
SUMMARY:Experiencia en el Jardín Botánico-Historico de Málaga
DESCRIPTION:Vas a mirar igual… pero ver distinto.\nEl próximo domingo 26
  de abril volvemos a uno de esos planes que ya son tradición en el Club.\
 nPor cuarto año consecutivo\, nos vamos al Jardín Botánico de Málaga.\
 nY no de cualquier manera.\nLa tarifa es de unos 5 €\, poco más de 3 pa
 ra grupos. Estamos gestionando un precio especial para grupos\n🌿 De la 
 mano de Juan Segovia\, nuestro socio y guía\, que cada año convierte un 
 paseo en una experiencia.No es solo caminar… es entender lo que estás v
 iendo.\nPero este año pasa algo más.\n🎨 Nuestra socia Jeanne nos pres
 enta su exposición individual MICRO — MACRO.Una mirada artística que p
 one el foco en lo pequeño… para hacerlo inmenso.\nY aquí es donde todo
  encaja.\nJuan nos guía por lo que existe.Jeanne nos enseña lo que mucha
 s veces no vemos.\nNaturaleza y arte.Realidad y mirada.Lo que está… y l
 o que se interpreta.\nDos formas de observar.Una misma experiencia.\nSi ya
  has venido otros años\, sabes que no es solo una visita.Si no… este pu
 ede ser el mejor momento para descubrirlo.\nNos vemos allí.\nLa entrada a
 l jardín botánico se abonará al llegar.\nEstamos gestionando un precio 
 especial.\nLa tarifa es de unos 5 €\, poco más de 3 para grupos
ATTACH;FMTTYPE=image/jpeg:https://www.cluboratoriamalaga.com/wp-content/up
 loads/2026/04/AVANZA-A-TU-RITMO-4.jpg
CATEGORIES:Evento Especial
LOCATION:Jardín Botánico-Historico de Málaga\, Camino del Jardín Botán
 ico\, 3 29014 - MÁLAGA\, MÁLAGA\, MÁLAGA\, 29014 \, España
X-APPLE-STRUCTURED-LOCATION;VALUE=URI;X-ADDRESS=Camino del Jardín Botánic
 o\, 3 29014 - MÁLAGA\, MÁLAGA\, MÁLAGA\, 29014 \, España;X-APPLE-RADIU
 S=100;X-TITLE=Jardín Botánico-Historico de Málaga:geo:0,0
END:VEVENT
BEGIN:VTIMEZONE
TZID:Europe/Madrid
X-LIC-LOCATION:Europe/Madrid
BEGIN:DAYLIGHT
DTSTART:20260329T030000
TZOFFSETFROM:+0100
TZOFFSETTO:+0200
TZNAME:CEST
END:DAYLIGHT
END:VTIMEZONE
END:VCALENDAR