BEGIN:VCALENDAR
VERSION:2.0
PRODID:-//wp-events-plugin.com//7.2.2.1//EN
BEGIN:VEVENT
UID:86@cluboratoriamalaga.com
DTSTART:20260529T170000Z
DTEND:20260529T183000Z
DTSTAMP:20260413T152550Z
URL:https://www.cluboratoriamalaga.com/eventos/38_ensayo-general-del-v-con
 curso-de-discursos-e-improvisacion/
SUMMARY:39_Ensayo general del V Concurso de Discursos e Improvisación
DESCRIPTION:Antes de subir al escenario… hay algo que marca la diferencia
 .\nEl próximo 29 de mayo\, el Club Oratoria Málaga celebrará el ensayo 
 general del V Concurso de Discursos e Improvisación\, el gran evento de c
 ierre de temporada.\nUn espacio reservado para quienes darán un paso al f
 rente el 5 de junio.\nUn momento clave.\nPorque no todo es preparar un bue
 n discurso…también es defenderlo en escena.\n\n\n\n\n🔎 ¿Qué ocurri
 rá en este ensayo?\nEste encuentro será una simulación real del evento 
 final:\n\n\n 	🎙 Uso de micrófonos\n 	🎭 Puesta en escena completa\n 
 	⏱ Control de tiempos\n 	👥 Adaptación al público\n 	🎯 Ajustes fi
 nales de cada presentación o pitch\n\nUna oportunidad para que las person
 as seleccionadas pulan cada detalle y conviertan su mensaje en una experie
 ncia.\n\n\n\n\n🎯 ¿Por qué es necesario?\nEl concurso final contará c
 on un formato cuidado y un aforo de hasta 200 personas\, en un espacio tan
  emblemático como La Caja Blanca.\nY eso cambia todo.\nNo todas las perso
 nas que quieran participar podrán hacerlo en el evento final\, ya que el 
 tiempo es limitado y buscamos dar espacio tanto a discursos preparados com
 o a dinámicas de improvisación.\nPor eso\, este ensayo será el punto de
  selección\, preparación y enfoque final.\n\n\n\n\n🎟 Próximamente: e
 ntradas a la venta\nEl evento del 5 de junio será una experiencia abierta
  al público\, con un aforo limitado.\nMuy pronto se anunciará la apertur
 a de inscripciones.\nTe recomendamos estar atento… porque las plazas vol
 arán.\n\n\n\n\n🚀 Más que un ensayo\nEste día no es solo una prueba t
 écnica.\nEs el lugar donde:\n\n\n 	se afinan nervios\,\n 	se gana segurid
 ad\,\n 	y se empieza a sentir… lo que ocurrirá el 5 de junio.\n\nPorque
  comunicar no es solo hablar.\nEs estar listo cuando llega el momento.\n
 💚 Te esperamos para aprender a sostenerte… incluso con nervios.\n\n
 💚Te esperamos en el edificio Antiguo de Tabacalera
ATTACH;FMTTYPE=image/jpeg:https://www.cluboratoriamalaga.com/wp-content/up
 loads/2026/04/AVANZA-A-TU-RITMO-2.png
CATEGORIES:Masterclass
LOCATION:Edificio Antigua Tabacalera\, C/ Concejal Muñoz Cerván\, 3 – M
 ódulo 3 (Salón de Actos\, planta baja)\, MÁLAGA\, 29004\, España
X-APPLE-STRUCTURED-LOCATION;VALUE=URI;X-ADDRESS=C/ Concejal Muñoz Cerván\
 , 3 – Módulo 3 (Salón de Actos\, planta baja)\, MÁLAGA\, 29004\, Espa
 ña;X-APPLE-RADIUS=100;X-TITLE=Edificio Antigua Tabacalera:geo:0,0
END:VEVENT
END:VCALENDAR