BEGIN:VCALENDAR
VERSION:2.0
PRODID:-//wp-events-plugin.com//7.2.2.1//EN
BEGIN:VEVENT
UID:79@cluboratoriamalaga.com
DTSTART:20260523T090000Z
DTEND:20260523T113000Z
DTSTAMP:20260413T152138Z
URL:https://www.cluboratoriamalaga.com/eventos/37_los-arquetipos-de-comuni
 cacion-con-el-efecto-sonrisa/
SUMMARY:38_Los Arquetipos de Comunicación con el Efecto Sonrisa
DESCRIPTION:Masterclass\n🌿 Los arquetipos de comunicación con el efecto
  sonrisa\nUn taller vivencial donde los participantes descubrirán sus arq
 uetipos de comunicación y aprenderán a COMUNICAR con mayor seguridad\, a
 utenticidad y conexión emocional.\nA través del efecto SOLrisa y dinámi
 cas prácticas\, se trabajará la voz\, el cuerpo y la presencia escénica
  para soltar bloqueos\, ganar confianza y comunicar desde lo que uno realm
 ente es.\nUna experiencia transformadora que combina emoción\, juego y ap
 rendizaje para llevar tu comunicación a otro nivel.\n\n\n 	Tipo: Mastercl
 ass\n 	Imparte: Miriam Bravo\n 	Entradas:\n\n 	Entrada socioNo se trata de
  hablar mejor.Se trata de hablar desde quién eres.\n\n\n\n💚Te esperamo
 s en LA NORIA
ATTACH;FMTTYPE=image/jpeg:https://www.cluboratoriamalaga.com/wp-content/up
 loads/2026/04/Tu-Voz-tu-Poder-1.png
CATEGORIES:Masterclass
LOCATION:La Noria\, Av. del Arroyo de los Ángeles\, 50Bailén-Miraflores\,
  Málaga\, Málaga\, 29011\, Málaga\, España
X-APPLE-STRUCTURED-LOCATION;VALUE=URI;X-ADDRESS=Av. del Arroyo de los Ánge
 les\, 50Bailén-Miraflores\, Málaga\, Málaga\, 29011\, Málaga\, España
 ;X-APPLE-RADIUS=100;X-TITLE=La Noria:geo:0,0
END:VEVENT
END:VCALENDAR