BEGIN:VCALENDAR
VERSION:2.0
PRODID:-//wp-events-plugin.com//7.2.2.1//EN
BEGIN:VEVENT
UID:76@cluboratoriamalaga.com
DTSTART:20260515T170000Z
DTEND:20260515T183000Z
DTSTAMP:20260417T163717Z
URL:https://www.cluboratoriamalaga.com/eventos/36_storytelling-cuenta-una-
 historia-que-deje-huella/
SUMMARY:36_Storytellin. "Alquimia Narrativa". Los 4 elementos que darán se
 ntido a tu mensaje. 🔥 🌬️ 💧 ✨
DESCRIPTION:Masterclass\nALQUIMIA NARRATIVA. Los 4 elementos que darán sen
 tido a tu mensaje unico.\n🔥 🌬️ 💧 ✨\n\nUn taller para transmut
 ar tu oratoria en tu nueva identidad\n\nTodos tenemos historias.\n Pero
 … ¿sabemos contarlas para que realmente conecten?\n\nEn esta masterclas
 s trabajaremos el arte de transformar experiencias en historias que emocio
 nen\, inspiren y dejen huella.\n🔑 ¿Qué vamos a trabajar?\nEste taller
  es una invitación a parar…y mirar hacia dentro.\nA descubrir cuál es 
 el mensaje que realmente quieres transmitir cuando hablas.\nPorque toda bu
 ena comunicación —y toda historia con impacto— gira en torno a una id
 ea clara.Un único mensaje.\nA través del enfoque de la alquimia narrativ
 a\, trabajaremos ese punto de partida:identificar\, simplificar y dar form
 a a lo que quieres decir de verdad.\nNo se trata de construir un discurso 
 perfecto.Se trata de entender algo de ti.\nDe encontrar esa idea que sosti
 ene todo lo demás.La que da sentido a tu historia.La que conecta.\nUn tal
 ler para dejar de decir muchas cosas…y empezar a decir una.\n\n🧭 Cond
 uce la sesión\nSonsoles Conde\n\n💚 Te esperamos para dar voz a tus his
 torias.\n\n💚Te esperamos en el edificio Antiguo de Tabacalera
ATTACH;FMTTYPE=image/jpeg:https://www.cluboratoriamalaga.com/wp-content/up
 loads/2026/04/Los-4-elementos-que-daran-sentido-a-tu-mensaje.jpg
CATEGORIES:Masterclass
LOCATION:Edificio Antigua Tabacalera\, C/ Concejal Muñoz Cerván\, 3 – M
 ódulo 3 (Salón de Actos\, planta baja)\, MÁLAGA\, 29004\, España
X-APPLE-STRUCTURED-LOCATION;VALUE=URI;X-ADDRESS=C/ Concejal Muñoz Cerván\
 , 3 – Módulo 3 (Salón de Actos\, planta baja)\, MÁLAGA\, 29004\, Espa
 ña;X-APPLE-RADIUS=100;X-TITLE=Edificio Antigua Tabacalera:geo:0,0
END:VEVENT
END:VCALENDAR