BEGIN:VCALENDAR
VERSION:2.0
PRODID:-//wp-events-plugin.com//7.2.2.1//EN
BEGIN:VEVENT
UID:78@cluboratoriamalaga.com
DTSTART:20260508T170000Z
DTEND:20260508T183000Z
DTSTAMP:20260417T162747Z
URL:https://www.cluboratoriamalaga.com/eventos/35_como-comunicar-la-marca-
 personal-para-gente-del-siglo-xxi/
SUMMARY:35_Como comunicar la marca personal para gente del siglo XXI
DESCRIPTION:Sesión Avanza en Comunidad\nCómo comunicar la Marca Personal 
 para gente real\n\n 	Imparte: Isabel Pérez Alcántara\n 	Descripción:\nT
 aller práctico sobre imagen personal\, coherencia y presencia.\nEn este t
 aller\, Isabel Pérez Alcántara abordará la marca personal desde una per
 spectiva práctica y realista: cómo construir un mensaje auténtico que r
 efleje quién eres y qué aportas\, sin caer en fórmulas vacías ni discu
 rsos artificiales. A través de ejemplos y ejercicios\, los participantes 
 trabajarán su propuesta personal\, aprenderán a diferenciarse en un ento
 rno saturado y descubrirán cómo comunicar su valor de forma clara\, cohe
 rente y conectada con su audiencia.\n\n 	Entradas:\n\n 	Entrada socio\n 	E
 ntrada no socio\n\n\n\n💚Te esperamos en el edificio Antiguo de Tabacale
 ra
ATTACH;FMTTYPE=image/jpeg:https://www.cluboratoriamalaga.com/wp-content/up
 loads/2026/04/Tu-Voz-tu-Poder.jpg
CATEGORIES:Avanza en comunidad
LOCATION:Edificio Antigua Tabacalera\, C/ Concejal Muñoz Cerván\, 3 – M
 ódulo 3 (Salón de Actos\, planta baja)\, MÁLAGA\, 29004\, España
X-APPLE-STRUCTURED-LOCATION;VALUE=URI;X-ADDRESS=C/ Concejal Muñoz Cerván\
 , 3 – Módulo 3 (Salón de Actos\, planta baja)\, MÁLAGA\, 29004\, Espa
 ña;X-APPLE-RADIUS=100;X-TITLE=Edificio Antigua Tabacalera:geo:0,0
END:VEVENT
END:VCALENDAR