BEGIN:VCALENDAR
VERSION:2.0
PRODID:-//wp-events-plugin.com//7.2.2.1//EN
BEGIN:VEVENT
UID:73@cluboratoriamalaga.com
DTSTART:20260424T170000Z
DTEND:20260424T183000Z
DTSTAMP:20260420T160320Z
URL:https://www.cluboratoriamalaga.com/eventos/33_quiero-vender-una-idea-e
 n-tres-minutos/
SUMMARY:34_Cómo Vender una Idea en Tres Minutos
DESCRIPTION:Avanza a tu ritmo\n¿Y si tuvieras solo 3 minutos para convence
 r a alguien de tu idea?\n ¿Sabrías por dónde empezar… o te perdería
 s en el camino?\n\nEn esta sesión trabajaremos cómo estructurar y comuni
 car una idea de forma clara\, directa y convincente. Porque tener una buen
 a idea no es suficiente… hay que saber transmitirla.\n🔑 ¿Qué vamos 
 a trabajar?\nAprenderás a ordenar tu mensaje\, captar la atención desde 
 el inicio y defender tu propuesta con claridad y seguridad.\n✨ Tres pinc
 eladas clave\n\n 	Cómo estructurar una idea en poco tiempo\n 	Qué decir 
 (y qué no) cuando quieres convencer\n 	Cómo transmitir claridad\, foco e
  impacto\n\n🎯 Dinámica de la sesión\nSesión práctica donde varias p
 ersonas presentarán su idea en 3 minutos.\nTrabajaremos sobre ejemplos re
 ales y se ofrecerá feedback para mejorar cada presentación.\n🙋‍♀
 ️ Participación de los socios\nPodrás asistir como público o particip
 ar presentando tu propia idea.\n🧭 Conduce la sesión\nClub Oratoria Má
 laga\n\n💚 Te esperamos para dar forma a tus ideas… y hacer que llegue
 n.\n💚Te esperamos en el edificio Antiguo de Tabacalera
ATTACH;FMTTYPE=image/jpeg:https://www.cluboratoriamalaga.com/wp-content/up
 loads/2026/04/AVANZA-A-TU-RITMO-1.jpg
CATEGORIES:Avanza en comunidad
LOCATION:Edificio Antigua Tabacalera\, C/ Concejal Muñoz Cerván\, 3 – M
 ódulo 3 (Salón de Actos\, planta baja)\, MÁLAGA\, 29004\, España
X-APPLE-STRUCTURED-LOCATION;VALUE=URI;X-ADDRESS=C/ Concejal Muñoz Cerván\
 , 3 – Módulo 3 (Salón de Actos\, planta baja)\, MÁLAGA\, 29004\, Espa
 ña;X-APPLE-RADIUS=100;X-TITLE=Edificio Antigua Tabacalera:geo:0,0
END:VEVENT
END:VCALENDAR